BEGIN:VCALENDAR
VERSION:2.0
PRODID:-//Bloomington First Church of the Nazarene - Bloomington, Indiana - ECPv6.15.20//NONSGML v1.0//EN
CALSCALE:GREGORIAN
METHOD:PUBLISH
X-ORIGINAL-URL:https://b1naz.org
X-WR-CALDESC:Events for Bloomington First Church of the Nazarene - Bloomington, Indiana
REFRESH-INTERVAL;VALUE=DURATION:PT1H
X-Robots-Tag:noindex
X-PUBLISHED-TTL:PT1H
BEGIN:VTIMEZONE
TZID:America/New_York
BEGIN:DAYLIGHT
TZOFFSETFROM:-0500
TZOFFSETTO:-0400
TZNAME:EDT
DTSTART:20240310T070000
END:DAYLIGHT
BEGIN:STANDARD
TZOFFSETFROM:-0400
TZOFFSETTO:-0500
TZNAME:EST
DTSTART:20241103T060000
END:STANDARD
BEGIN:DAYLIGHT
TZOFFSETFROM:-0500
TZOFFSETTO:-0400
TZNAME:EDT
DTSTART:20250309T070000
END:DAYLIGHT
BEGIN:STANDARD
TZOFFSETFROM:-0400
TZOFFSETTO:-0500
TZNAME:EST
DTSTART:20251102T060000
END:STANDARD
BEGIN:DAYLIGHT
TZOFFSETFROM:-0500
TZOFFSETTO:-0400
TZNAME:EDT
DTSTART:20260308T070000
END:DAYLIGHT
BEGIN:STANDARD
TZOFFSETFROM:-0400
TZOFFSETTO:-0500
TZNAME:EST
DTSTART:20261101T060000
END:STANDARD
BEGIN:DAYLIGHT
TZOFFSETFROM:-0500
TZOFFSETTO:-0400
TZNAME:EDT
DTSTART:20270314T070000
END:DAYLIGHT
BEGIN:STANDARD
TZOFFSETFROM:-0400
TZOFFSETTO:-0500
TZNAME:EST
DTSTART:20271107T060000
END:STANDARD
END:VTIMEZONE
BEGIN:VEVENT
DTSTART;TZID=America/New_York:20260125T103000
DTEND;TZID=America/New_York:20260125T113000
DTSTAMP:20260424T101707
CREATED:20260105T190408Z
LAST-MODIFIED:20260105T190408Z
UID:9104-1769337000-1769340600@b1naz.org
SUMMARY:SUNDAY MORNING WORSHIP
DESCRIPTION:Our hope\, as a church\, is that people who join us for worship will feel loved by God and loved by God’s people. \nWe look forward to meeting you soon! \nCan’t join us in person? That’s Okay! We also LiveStream on our YouTube Channel \nBloomington First Church of the Nazarene Live Stream
URL:https://b1naz.org/event/sunday-morning-worship-134/
LOCATION:Sanctuary\, 700 W. Howe St\, Bloomington\, IN\, 47403\, United States
CATEGORIES:Worship Service
ATTACH;FMTTYPE=image/jpeg:https://b1naz.org/wp-content/uploads/2023/01/Church-Outside-WORSHIP-1920x1080-copy.jpg
ORGANIZER;CN="Office Admin":MAILTO:office.b1naz@gmail.com
END:VEVENT
BEGIN:VEVENT
DTSTART;TZID=America/New_York:20260118T103000
DTEND;TZID=America/New_York:20260118T113000
DTSTAMP:20260424T101707
CREATED:20260105T190348Z
LAST-MODIFIED:20260105T190348Z
UID:9101-1768732200-1768735800@b1naz.org
SUMMARY:SUNDAY MORNING WORSHIP
DESCRIPTION:Our hope\, as a church\, is that people who join us for worship will feel loved by God and loved by God’s people. \nWe look forward to meeting you soon! \nCan’t join us in person? That’s Okay! We also LiveStream on our YouTube Channel \nBloomington First Church of the Nazarene Live Stream
URL:https://b1naz.org/event/sunday-morning-worship-133/
LOCATION:Sanctuary\, 700 W. Howe St\, Bloomington\, IN\, 47403\, United States
CATEGORIES:Worship Service
ATTACH;FMTTYPE=image/jpeg:https://b1naz.org/wp-content/uploads/2023/01/Church-Outside-WORSHIP-1920x1080-copy.jpg
ORGANIZER;CN="Office Admin":MAILTO:office.b1naz@gmail.com
END:VEVENT
BEGIN:VEVENT
DTSTART;TZID=America/New_York:20260111T103000
DTEND;TZID=America/New_York:20260111T113000
DTSTAMP:20260424T101707
CREATED:20251231T193810Z
LAST-MODIFIED:20251231T193810Z
UID:8741-1768127400-1768131000@b1naz.org
SUMMARY:SUNDAY MORNING WORSHIP
DESCRIPTION:Our hope\, as a church\, is that people who join us for worship will feel loved by God and loved by God’s people. \nWe look forward to meeting you soon! \nCan’t join us in person? That’s Okay! We also LiveStream on our YouTube Channel \nBloomington First Church of the Nazarene Live Stream
URL:https://b1naz.org/event/sunday-morning-worship-132/
LOCATION:Sanctuary\, 700 W. Howe St\, Bloomington\, IN\, 47403\, United States
CATEGORIES:Worship Service
ATTACH;FMTTYPE=image/jpeg:https://b1naz.org/wp-content/uploads/2023/01/Church-Outside-WORSHIP-1920x1080-copy.jpg
ORGANIZER;CN="Office Admin":MAILTO:office.b1naz@gmail.com
END:VEVENT
BEGIN:VEVENT
DTSTART;TZID=America/New_York:20260104T103000
DTEND;TZID=America/New_York:20260104T113000
DTSTAMP:20260424T101707
CREATED:20251201T222206Z
LAST-MODIFIED:20251201T222206Z
UID:8656-1767522600-1767526200@b1naz.org
SUMMARY:SUNDAY MORNING WORSHIP
DESCRIPTION:Our hope\, as a church\, is that people who join us for worship will feel loved by God and loved by God’s people. \nWe look forward to meeting you soon! \nCan’t join us in person? That’s Okay! We also LiveStream on our YouTube Channel \nBloomington First Church of the Nazarene Live Stream
URL:https://b1naz.org/event/sunday-morning-worship-131/
LOCATION:Sanctuary\, 700 W. Howe St\, Bloomington\, IN\, 47403\, United States
CATEGORIES:Worship Service
ATTACH;FMTTYPE=image/jpeg:https://b1naz.org/wp-content/uploads/2023/01/Church-Outside-WORSHIP-1920x1080-copy.jpg
ORGANIZER;CN="Office Admin":MAILTO:office.b1naz@gmail.com
END:VEVENT
BEGIN:VEVENT
DTSTART;TZID=America/New_York:20251228T103000
DTEND;TZID=America/New_York:20251228T113000
DTSTAMP:20260424T101707
CREATED:20251201T222100Z
LAST-MODIFIED:20251201T222100Z
UID:8650-1766917800-1766921400@b1naz.org
SUMMARY:SUNDAY MORNING WORSHIP
DESCRIPTION:Our hope\, as a church\, is that people who join us for worship will feel loved by God and loved by God’s people. \nWe look forward to meeting you soon! \nCan’t join us in person? That’s Okay! We also LiveStream on our YouTube Channel \nBloomington First Church of the Nazarene Live Stream
URL:https://b1naz.org/event/sunday-morning-worship-130/
LOCATION:Sanctuary\, 700 W. Howe St\, Bloomington\, IN\, 47403\, United States
CATEGORIES:Worship Service
ATTACH;FMTTYPE=image/jpeg:https://b1naz.org/wp-content/uploads/2023/01/Church-Outside-WORSHIP-1920x1080-copy.jpg
ORGANIZER;CN="Office Admin":MAILTO:office.b1naz@gmail.com
END:VEVENT
BEGIN:VEVENT
DTSTART;TZID=America/New_York:20251221T103000
DTEND;TZID=America/New_York:20251221T113000
DTSTAMP:20260424T101707
CREATED:20251201T221549Z
LAST-MODIFIED:20251201T221549Z
UID:8643-1766313000-1766316600@b1naz.org
SUMMARY:SUNDAY MORNING WORSHIP
DESCRIPTION:Our hope\, as a church\, is that people who join us for worship will feel loved by God and loved by God’s people. \nWe look forward to meeting you soon! \nCan’t join us in person? That’s Okay! We also LiveStream on our YouTube Channel \nBloomington First Church of the Nazarene Live Stream
URL:https://b1naz.org/event/sunday-morning-worship-129/
LOCATION:Sanctuary\, 700 W. Howe St\, Bloomington\, IN\, 47403\, United States
CATEGORIES:Worship Service
ATTACH;FMTTYPE=image/jpeg:https://b1naz.org/wp-content/uploads/2023/01/Church-Outside-WORSHIP-1920x1080-copy.jpg
ORGANIZER;CN="Office Admin":MAILTO:office.b1naz@gmail.com
END:VEVENT
BEGIN:VEVENT
DTSTART;TZID=America/New_York:20251214T103000
DTEND;TZID=America/New_York:20251214T113000
DTSTAMP:20260424T101707
CREATED:20251110T201858Z
LAST-MODIFIED:20251110T201858Z
UID:8585-1765708200-1765711800@b1naz.org
SUMMARY:SUNDAY MORNING WORSHIP
DESCRIPTION:Our hope\, as a church\, is that people who join us for worship will feel loved by God and loved by God’s people. \nWe look forward to meeting you soon! \nCan’t join us in person? That’s Okay! We also LiveStream on our YouTube Channel \nBloomington First Church of the Nazarene Live Stream
URL:https://b1naz.org/event/sunday-morning-worship-128/
LOCATION:Sanctuary\, 700 W. Howe St\, Bloomington\, IN\, 47403\, United States
CATEGORIES:Worship Service
ATTACH;FMTTYPE=image/jpeg:https://b1naz.org/wp-content/uploads/2023/01/Church-Outside-WORSHIP-1920x1080-copy.jpg
ORGANIZER;CN="Office Admin":MAILTO:office.b1naz@gmail.com
END:VEVENT
BEGIN:VEVENT
DTSTART;TZID=America/New_York:20251207T103000
DTEND;TZID=America/New_York:20251207T113000
DTSTAMP:20260424T101707
CREATED:20251110T201734Z
LAST-MODIFIED:20251110T201734Z
UID:8580-1765103400-1765107000@b1naz.org
SUMMARY:SUNDAY MORNING WORSHIP
DESCRIPTION:Our hope\, as a church\, is that people who join us for worship will feel loved by God and loved by God’s people. \nWe look forward to meeting you soon! \nCan’t join us in person? That’s Okay! We also LiveStream on our YouTube Channel \nBloomington First Church of the Nazarene Live Stream
URL:https://b1naz.org/event/sunday-morning-worship-127/
LOCATION:Sanctuary\, 700 W. Howe St\, Bloomington\, IN\, 47403\, United States
CATEGORIES:Worship Service
ATTACH;FMTTYPE=image/jpeg:https://b1naz.org/wp-content/uploads/2023/01/Church-Outside-WORSHIP-1920x1080-copy.jpg
ORGANIZER;CN="Office Admin":MAILTO:office.b1naz@gmail.com
END:VEVENT
BEGIN:VEVENT
DTSTART;TZID=America/New_York:20251130T103000
DTEND;TZID=America/New_York:20251130T113000
DTSTAMP:20260424T101707
CREATED:20251110T192720Z
LAST-MODIFIED:20251110T192720Z
UID:8558-1764498600-1764502200@b1naz.org
SUMMARY:SUNDAY MORNING WORSHIP
DESCRIPTION:Our hope\, as a church\, is that people who join us for worship will feel loved by God and loved by God’s people. \nWe look forward to meeting you soon! \nCan’t join us in person? That’s Okay! We also LiveStream on our YouTube Channel \nBloomington First Church of the Nazarene Live Stream
URL:https://b1naz.org/event/sunday-morning-worship-126/
LOCATION:Sanctuary\, 700 W. Howe St\, Bloomington\, IN\, 47403\, United States
CATEGORIES:Worship Service
ATTACH;FMTTYPE=image/jpeg:https://b1naz.org/wp-content/uploads/2023/01/Church-Outside-WORSHIP-1920x1080-copy.jpg
ORGANIZER;CN="Office Admin":MAILTO:office.b1naz@gmail.com
END:VEVENT
BEGIN:VEVENT
DTSTART;TZID=America/New_York:20251123T103000
DTEND;TZID=America/New_York:20251123T113000
DTSTAMP:20260424T101707
CREATED:20251110T192700Z
LAST-MODIFIED:20251110T192700Z
UID:8555-1763893800-1763897400@b1naz.org
SUMMARY:SUNDAY MORNING WORSHIP
DESCRIPTION:Our hope\, as a church\, is that people who join us for worship will feel loved by God and loved by God’s people. \nWe look forward to meeting you soon! \nCan’t join us in person? That’s Okay! We also LiveStream on our YouTube Channel \nBloomington First Church of the Nazarene Live Stream
URL:https://b1naz.org/event/sunday-morning-worship-125/
LOCATION:Sanctuary\, 700 W. Howe St\, Bloomington\, IN\, 47403\, United States
CATEGORIES:Worship Service
ATTACH;FMTTYPE=image/jpeg:https://b1naz.org/wp-content/uploads/2023/01/Church-Outside-WORSHIP-1920x1080-copy.jpg
ORGANIZER;CN="Office Admin":MAILTO:office.b1naz@gmail.com
END:VEVENT
BEGIN:VEVENT
DTSTART;TZID=America/New_York:20251116T103000
DTEND;TZID=America/New_York:20251116T113000
DTSTAMP:20260424T101707
CREATED:20251110T192246Z
LAST-MODIFIED:20251110T192246Z
UID:8545-1763289000-1763292600@b1naz.org
SUMMARY:SUNDAY MORNING WORSHIP
DESCRIPTION:Our hope\, as a church\, is that people who join us for worship will feel loved by God and loved by God’s people. \nWe look forward to meeting you soon! \nCan’t join us in person? That’s Okay! We also LiveStream on our YouTube Channel \nBloomington First Church of the Nazarene Live Stream
URL:https://b1naz.org/event/sunday-morning-worship-124/
LOCATION:Sanctuary\, 700 W. Howe St\, Bloomington\, IN\, 47403\, United States
CATEGORIES:Worship Service
ATTACH;FMTTYPE=image/jpeg:https://b1naz.org/wp-content/uploads/2023/01/Church-Outside-WORSHIP-1920x1080-copy.jpg
ORGANIZER;CN="Office Admin":MAILTO:office.b1naz@gmail.com
END:VEVENT
BEGIN:VEVENT
DTSTART;TZID=America/New_York:20251109T103000
DTEND;TZID=America/New_York:20251109T113000
DTSTAMP:20260424T101707
CREATED:20251103T200639Z
LAST-MODIFIED:20251103T200639Z
UID:8518-1762684200-1762687800@b1naz.org
SUMMARY:SUNDAY MORNING WORSHIP
DESCRIPTION:Our hope\, as a church\, is that people who join us for worship will feel loved by God and loved by God’s people. \nWe look forward to meeting you soon! \nCan’t join us in person? That’s Okay! We also LiveStream on our YouTube Channel \nBloomington First Church of the Nazarene Live Stream
URL:https://b1naz.org/event/sunday-morning-worship-123/
LOCATION:Sanctuary\, 700 W. Howe St\, Bloomington\, IN\, 47403\, United States
CATEGORIES:Worship Service
ATTACH;FMTTYPE=image/jpeg:https://b1naz.org/wp-content/uploads/2023/01/Church-Outside-WORSHIP-1920x1080-copy.jpg
ORGANIZER;CN="Office Admin":MAILTO:office.b1naz@gmail.com
END:VEVENT
BEGIN:VEVENT
DTSTART;TZID=America/New_York:20251102T103000
DTEND;TZID=America/New_York:20251102T113000
DTSTAMP:20260424T101707
CREATED:20251029T155045Z
LAST-MODIFIED:20251029T155045Z
UID:8492-1762079400-1762083000@b1naz.org
SUMMARY:SUNDAY MORNING WORSHIP
DESCRIPTION:Our hope\, as a church\, is that people who join us for worship will feel loved by God and loved by God’s people. \nWe look forward to meeting you soon! \nCan’t join us in person? That’s Okay! We also LiveStream on our YouTube Channel \nBloomington First Church of the Nazarene Live Stream
URL:https://b1naz.org/event/sunday-morning-worship-122/
LOCATION:Sanctuary\, 700 W. Howe St\, Bloomington\, IN\, 47403\, United States
CATEGORIES:Worship Service
ATTACH;FMTTYPE=image/jpeg:https://b1naz.org/wp-content/uploads/2023/01/Church-Outside-WORSHIP-1920x1080-copy.jpg
ORGANIZER;CN="Office Admin":MAILTO:office.b1naz@gmail.com
END:VEVENT
BEGIN:VEVENT
DTSTART;TZID=America/New_York:20251026T103000
DTEND;TZID=America/New_York:20251026T113000
DTSTAMP:20260424T101707
CREATED:20251006T175946Z
LAST-MODIFIED:20251006T181021Z
UID:8436-1761474600-1761478200@b1naz.org
SUMMARY:SUNDAY MORNING WORSHIP
DESCRIPTION:Our hope\, as a church\, is that people who join us for worship will feel loved by God and loved by God’s people. \nWe look forward to meeting you soon! \nCan’t join us in person? That’s Okay! We also LiveStream on our YouTube Channel \nBloomington First Church of the Nazarene Live Stream
URL:https://b1naz.org/event/sunday-morning-worship-121/
LOCATION:Sanctuary\, 700 W. Howe St\, Bloomington\, IN\, 47403\, United States
CATEGORIES:Worship Service
ATTACH;FMTTYPE=image/jpeg:https://b1naz.org/wp-content/uploads/2023/01/Church-Outside-WORSHIP-1920x1080-copy.jpg
ORGANIZER;CN="Office Admin":MAILTO:office.b1naz@gmail.com
END:VEVENT
BEGIN:VEVENT
DTSTART;TZID=America/New_York:20251019T103000
DTEND;TZID=America/New_York:20251019T113000
DTSTAMP:20260424T101707
CREATED:20251006T175333Z
LAST-MODIFIED:20251006T175333Z
UID:8435-1760869800-1760873400@b1naz.org
SUMMARY:SUNDAY MORNING WORSHIP
DESCRIPTION:Our hope\, as a church\, is that people who join us for worship will feel loved by God and loved by God’s people. \nWe look forward to meeting you soon! \nCan’t join us in person? That’s Okay! We also LiveStream on our YouTube Channel \nBloomington First Church of the Nazarene Live Stream
URL:https://b1naz.org/event/sunday-morning-worship-120/
LOCATION:Sanctuary\, 700 W. Howe St\, Bloomington\, IN\, 47403\, United States
CATEGORIES:Worship Service
ATTACH;FMTTYPE=image/jpeg:https://b1naz.org/wp-content/uploads/2023/01/Church-Outside-WORSHIP-1920x1080-copy.jpg
ORGANIZER;CN="Office Admin":MAILTO:office.b1naz@gmail.com
END:VEVENT
BEGIN:VEVENT
DTSTART;TZID=America/New_York:20251012T103000
DTEND;TZID=America/New_York:20251012T113000
DTSTAMP:20260424T101707
CREATED:20251006T174744Z
LAST-MODIFIED:20251006T174744Z
UID:8424-1760265000-1760268600@b1naz.org
SUMMARY:SUNDAY MORNING WORSHIP
DESCRIPTION:Our hope\, as a church\, is that people who join us for worship will feel loved by God and loved by God’s people. \nWe look forward to meeting you soon! \nCan’t join us in person? That’s Okay! We also LiveStream on our YouTube Channel \nBloomington First Church of the Nazarene Live Stream
URL:https://b1naz.org/event/sunday-morning-worship-119/
LOCATION:Sanctuary\, 700 W. Howe St\, Bloomington\, IN\, 47403\, United States
CATEGORIES:Worship Service
ATTACH;FMTTYPE=image/jpeg:https://b1naz.org/wp-content/uploads/2023/01/Church-Outside-WORSHIP-1920x1080-copy.jpg
ORGANIZER;CN="Office Admin":MAILTO:office.b1naz@gmail.com
END:VEVENT
BEGIN:VEVENT
DTSTART;TZID=America/New_York:20251005T103000
DTEND;TZID=America/New_York:20251005T113000
DTSTAMP:20260424T101707
CREATED:20251003T192600Z
LAST-MODIFIED:20251003T192600Z
UID:8408-1759660200-1759663800@b1naz.org
SUMMARY:SUNDAY MORNING WORSHIP
DESCRIPTION:Our hope\, as a church\, is that people who join us for worship will feel loved by God and loved by God’s people. \nWe look forward to meeting you soon! \nCan’t join us in person? That’s Okay! We also LiveStream on our YouTube Channel \nBloomington First Church of the Nazarene Live Stream
URL:https://b1naz.org/event/sunday-morning-worship-118/
LOCATION:Sanctuary\, 700 W. Howe St\, Bloomington\, IN\, 47403\, United States
CATEGORIES:Worship Service
ATTACH;FMTTYPE=image/jpeg:https://b1naz.org/wp-content/uploads/2023/01/Church-Outside-WORSHIP-1920x1080-copy.jpg
ORGANIZER;CN="Office Admin":MAILTO:office.b1naz@gmail.com
END:VEVENT
BEGIN:VEVENT
DTSTART;TZID=America/New_York:20250928T103000
DTEND;TZID=America/New_York:20250928T113000
DTSTAMP:20260424T101707
CREATED:20250901T170602Z
LAST-MODIFIED:20250901T170602Z
UID:8290-1759055400-1759059000@b1naz.org
SUMMARY:SUNDAY MORNING WORSHIP
DESCRIPTION:Our hope\, as a church\, is that people who join us for worship will feel loved by God and loved by God’s people. \nWe look forward to meeting you soon! \nCan’t join us in person? That’s Okay! We also LiveStream on our YouTube Channel \nBloomington First Church of the Nazarene Live Stream
URL:https://b1naz.org/event/sunday-morning-worship-117/
LOCATION:Sanctuary\, 700 W. Howe St\, Bloomington\, IN\, 47403\, United States
CATEGORIES:Worship Service
ATTACH;FMTTYPE=image/jpeg:https://b1naz.org/wp-content/uploads/2023/01/Church-Outside-WORSHIP-1920x1080-copy.jpg
ORGANIZER;CN="Office Admin":MAILTO:office.b1naz@gmail.com
END:VEVENT
BEGIN:VEVENT
DTSTART;TZID=America/New_York:20250921T103000
DTEND;TZID=America/New_York:20250921T113000
DTSTAMP:20260424T101707
CREATED:20250901T170544Z
LAST-MODIFIED:20250901T170544Z
UID:8289-1758450600-1758454200@b1naz.org
SUMMARY:SUNDAY MORNING WORSHIP
DESCRIPTION:Our hope\, as a church\, is that people who join us for worship will feel loved by God and loved by God’s people. \nWe look forward to meeting you soon! \nCan’t join us in person? That’s Okay! We also LiveStream on our YouTube Channel \nBloomington First Church of the Nazarene Live Stream
URL:https://b1naz.org/event/sunday-morning-worship-116/
LOCATION:Sanctuary\, 700 W. Howe St\, Bloomington\, IN\, 47403\, United States
CATEGORIES:Worship Service
ATTACH;FMTTYPE=image/jpeg:https://b1naz.org/wp-content/uploads/2023/01/Church-Outside-WORSHIP-1920x1080-copy.jpg
ORGANIZER;CN="Office Admin":MAILTO:office.b1naz@gmail.com
END:VEVENT
BEGIN:VEVENT
DTSTART;TZID=America/New_York:20250914T103000
DTEND;TZID=America/New_York:20250914T113000
DTSTAMP:20260424T101707
CREATED:20250901T170525Z
LAST-MODIFIED:20250901T170525Z
UID:8288-1757845800-1757849400@b1naz.org
SUMMARY:SUNDAY MORNING WORSHIP
DESCRIPTION:Our hope\, as a church\, is that people who join us for worship will feel loved by God and loved by God’s people. \nWe look forward to meeting you soon! \nCan’t join us in person? That’s Okay! We also LiveStream on our YouTube Channel \nBloomington First Church of the Nazarene Live Stream
URL:https://b1naz.org/event/sunday-morning-worship-115/
LOCATION:Sanctuary\, 700 W. Howe St\, Bloomington\, IN\, 47403\, United States
CATEGORIES:Worship Service
ATTACH;FMTTYPE=image/jpeg:https://b1naz.org/wp-content/uploads/2023/01/Church-Outside-WORSHIP-1920x1080-copy.jpg
ORGANIZER;CN="Office Admin":MAILTO:office.b1naz@gmail.com
END:VEVENT
BEGIN:VEVENT
DTSTART;TZID=America/New_York:20250907T103000
DTEND;TZID=America/New_York:20250907T113000
DTSTAMP:20260424T101707
CREATED:20250901T170507Z
LAST-MODIFIED:20250901T170507Z
UID:8287-1757241000-1757244600@b1naz.org
SUMMARY:SUNDAY MORNING WORSHIP
DESCRIPTION:Our hope\, as a church\, is that people who join us for worship will feel loved by God and loved by God’s people. \nWe look forward to meeting you soon! \nCan’t join us in person? That’s Okay! We also LiveStream on our YouTube Channel \nBloomington First Church of the Nazarene Live Stream
URL:https://b1naz.org/event/sunday-morning-worship-114/
LOCATION:Sanctuary\, 700 W. Howe St\, Bloomington\, IN\, 47403\, United States
CATEGORIES:Worship Service
ATTACH;FMTTYPE=image/jpeg:https://b1naz.org/wp-content/uploads/2023/01/Church-Outside-WORSHIP-1920x1080-copy.jpg
ORGANIZER;CN="Office Admin":MAILTO:office.b1naz@gmail.com
END:VEVENT
BEGIN:VEVENT
DTSTART;TZID=America/New_York:20250831T103000
DTEND;TZID=America/New_York:20250831T113000
DTSTAMP:20260424T101707
CREATED:20250730T215145Z
LAST-MODIFIED:20250730T215145Z
UID:8153-1756636200-1756639800@b1naz.org
SUMMARY:SUNDAY MORNING WORSHIP
DESCRIPTION:Our hope\, as a church\, is that people who join us for worship will feel loved by God and loved by God’s people. \nWe look forward to meeting you soon! \nCan’t join us in person? That’s Okay! We also LiveStream on our YouTube Channel \nBloomington First Church of the Nazarene Live Stream
URL:https://b1naz.org/event/sunday-morning-worship-113/
LOCATION:Sanctuary\, 700 W. Howe St\, Bloomington\, IN\, 47403\, United States
CATEGORIES:Worship Service
ATTACH;FMTTYPE=image/jpeg:https://b1naz.org/wp-content/uploads/2023/01/Church-Outside-WORSHIP-1920x1080-copy.jpg
ORGANIZER;CN="Office Admin":MAILTO:office.b1naz@gmail.com
END:VEVENT
BEGIN:VEVENT
DTSTART;TZID=America/New_York:20250824T103000
DTEND;TZID=America/New_York:20250824T113000
DTSTAMP:20260424T101707
CREATED:20250730T215115Z
LAST-MODIFIED:20250730T215115Z
UID:8151-1756031400-1756035000@b1naz.org
SUMMARY:SUNDAY MORNING WORSHIP
DESCRIPTION:Our hope\, as a church\, is that people who join us for worship will feel loved by God and loved by God’s people. \nWe look forward to meeting you soon! \nCan’t join us in person? That’s Okay! We also LiveStream on our YouTube Channel \nBloomington First Church of the Nazarene Live Stream
URL:https://b1naz.org/event/sunday-morning-worship-112/
LOCATION:Sanctuary\, 700 W. Howe St\, Bloomington\, IN\, 47403\, United States
CATEGORIES:Worship Service
ATTACH;FMTTYPE=image/jpeg:https://b1naz.org/wp-content/uploads/2023/01/Church-Outside-WORSHIP-1920x1080-copy.jpg
ORGANIZER;CN="Office Admin":MAILTO:office.b1naz@gmail.com
END:VEVENT
BEGIN:VEVENT
DTSTART;TZID=America/New_York:20250817T103000
DTEND;TZID=America/New_York:20250817T113000
DTSTAMP:20260424T101707
CREATED:20250730T215012Z
LAST-MODIFIED:20250730T215012Z
UID:8149-1755426600-1755430200@b1naz.org
SUMMARY:SUNDAY MORNING WORSHIP
DESCRIPTION:Our hope\, as a church\, is that people who join us for worship will feel loved by God and loved by God’s people. \nWe look forward to meeting you soon! \nCan’t join us in person? That’s Okay! We also LiveStream on our YouTube Channel \nBloomington First Church of the Nazarene Live Stream
URL:https://b1naz.org/event/sunday-morning-worship-111/
LOCATION:Sanctuary\, 700 W. Howe St\, Bloomington\, IN\, 47403\, United States
CATEGORIES:Worship Service
ATTACH;FMTTYPE=image/jpeg:https://b1naz.org/wp-content/uploads/2023/01/Church-Outside-WORSHIP-1920x1080-copy.jpg
ORGANIZER;CN="Office Admin":MAILTO:office.b1naz@gmail.com
END:VEVENT
BEGIN:VEVENT
DTSTART;TZID=America/New_York:20250810T103000
DTEND;TZID=America/New_York:20250810T113000
DTSTAMP:20260424T101707
CREATED:20250730T214940Z
LAST-MODIFIED:20250730T214940Z
UID:8147-1754821800-1754825400@b1naz.org
SUMMARY:SUNDAY MORNING WORSHIP
DESCRIPTION:Our hope\, as a church\, is that people who join us for worship will feel loved by God and loved by God’s people. \nWe look forward to meeting you soon! \nCan’t join us in person? That’s Okay! We also LiveStream on our YouTube Channel \nBloomington First Church of the Nazarene Live Stream
URL:https://b1naz.org/event/sunday-morning-worship-110/
LOCATION:Sanctuary\, 700 W. Howe St\, Bloomington\, IN\, 47403\, United States
CATEGORIES:Worship Service
ATTACH;FMTTYPE=image/jpeg:https://b1naz.org/wp-content/uploads/2023/01/Church-Outside-WORSHIP-1920x1080-copy.jpg
ORGANIZER;CN="Office Admin":MAILTO:office.b1naz@gmail.com
END:VEVENT
BEGIN:VEVENT
DTSTART;TZID=America/New_York:20250803T103000
DTEND;TZID=America/New_York:20250803T113000
DTSTAMP:20260424T101707
CREATED:20250730T214911Z
LAST-MODIFIED:20250730T214911Z
UID:8135-1754217000-1754220600@b1naz.org
SUMMARY:SUNDAY MORNING WORSHIP
DESCRIPTION:Our hope\, as a church\, is that people who join us for worship will feel loved by God and loved by God’s people. \nWe look forward to meeting you soon! \nCan’t join us in person? That’s Okay! We also LiveStream on our YouTube Channel \nBloomington First Church of the Nazarene Live Stream
URL:https://b1naz.org/event/sunday-morning-worship-109/
LOCATION:Sanctuary\, 700 W. Howe St\, Bloomington\, IN\, 47403\, United States
CATEGORIES:Worship Service
ATTACH;FMTTYPE=image/jpeg:https://b1naz.org/wp-content/uploads/2023/01/Church-Outside-WORSHIP-1920x1080-copy.jpg
ORGANIZER;CN="Office Admin":MAILTO:office.b1naz@gmail.com
END:VEVENT
BEGIN:VEVENT
DTSTART;TZID=America/New_York:20250727T103000
DTEND;TZID=America/New_York:20250727T113000
DTSTAMP:20260424T101707
CREATED:20250630T150337Z
LAST-MODIFIED:20250630T150337Z
UID:8045-1753612200-1753615800@b1naz.org
SUMMARY:SUNDAY MORNING WORSHIP
DESCRIPTION:Our hope\, as a church\, is that people who join us for worship will feel loved by God and loved by God’s people. \nWe look forward to meeting you soon! \nCan’t join us in person? That’s Okay! We also LiveStream on our YouTube Channel \nBloomington First Church of the Nazarene Live Stream
URL:https://b1naz.org/event/sunday-morning-worship-108/
LOCATION:Sanctuary\, 700 W. Howe St\, Bloomington\, IN\, 47403\, United States
CATEGORIES:Worship Service
ATTACH;FMTTYPE=image/jpeg:https://b1naz.org/wp-content/uploads/2023/01/Church-Outside-WORSHIP-1920x1080-copy.jpg
ORGANIZER;CN="Office Admin":MAILTO:office.b1naz@gmail.com
END:VEVENT
BEGIN:VEVENT
DTSTART;TZID=America/New_York:20250720T103000
DTEND;TZID=America/New_York:20250720T113000
DTSTAMP:20260424T101707
CREATED:20250630T145807Z
LAST-MODIFIED:20250630T145807Z
UID:8037-1753007400-1753011000@b1naz.org
SUMMARY:SUNDAY MORNING WORSHIP
DESCRIPTION:Our hope\, as a church\, is that people who join us for worship will feel loved by God and loved by God’s people. \nWe look forward to meeting you soon! \nCan’t join us in person? That’s Okay! We also LiveStream on our YouTube Channel \nBloomington First Church of the Nazarene Live Stream
URL:https://b1naz.org/event/sunday-morning-worship-107/
LOCATION:Sanctuary\, 700 W. Howe St\, Bloomington\, IN\, 47403\, United States
CATEGORIES:Worship Service
ATTACH;FMTTYPE=image/jpeg:https://b1naz.org/wp-content/uploads/2023/01/Church-Outside-WORSHIP-1920x1080-copy.jpg
ORGANIZER;CN="Office Admin":MAILTO:office.b1naz@gmail.com
END:VEVENT
BEGIN:VEVENT
DTSTART;TZID=America/New_York:20250713T103000
DTEND;TZID=America/New_York:20250713T113000
DTSTAMP:20260424T101707
CREATED:20250630T145621Z
LAST-MODIFIED:20250630T145621Z
UID:8034-1752402600-1752406200@b1naz.org
SUMMARY:SUNDAY MORNING WORSHIP
DESCRIPTION:Our hope\, as a church\, is that people who join us for worship will feel loved by God and loved by God’s people. \nWe look forward to meeting you soon! \nCan’t join us in person? That’s Okay! We also LiveStream on our YouTube Channel \nBloomington First Church of the Nazarene Live Stream
URL:https://b1naz.org/event/sunday-morning-worship-106/
LOCATION:Sanctuary\, 700 W. Howe St\, Bloomington\, IN\, 47403\, United States
CATEGORIES:Worship Service
ATTACH;FMTTYPE=image/jpeg:https://b1naz.org/wp-content/uploads/2023/01/Church-Outside-WORSHIP-1920x1080-copy.jpg
ORGANIZER;CN="Office Admin":MAILTO:office.b1naz@gmail.com
END:VEVENT
BEGIN:VEVENT
DTSTART;TZID=America/New_York:20250706T103000
DTEND;TZID=America/New_York:20250706T113000
DTSTAMP:20260424T101707
CREATED:20250630T144524Z
LAST-MODIFIED:20250630T144524Z
UID:8023-1751797800-1751801400@b1naz.org
SUMMARY:SUNDAY MORNING WORSHIP
DESCRIPTION:Our hope\, as a church\, is that people who join us for worship will feel loved by God and loved by God’s people. \nWe look forward to meeting you soon! \nCan’t join us in person? That’s Okay! We also LiveStream on our YouTube Channel \nBloomington First Church of the Nazarene Live Stream
URL:https://b1naz.org/event/sunday-morning-worship-105/
LOCATION:Sanctuary\, 700 W. Howe St\, Bloomington\, IN\, 47403\, United States
CATEGORIES:Worship Service
ATTACH;FMTTYPE=image/jpeg:https://b1naz.org/wp-content/uploads/2023/01/Church-Outside-WORSHIP-1920x1080-copy.jpg
ORGANIZER;CN="Office Admin":MAILTO:office.b1naz@gmail.com
END:VEVENT
END:VCALENDAR