BEGIN:VCALENDAR
VERSION:2.0
PRODID:-//Bloomington First Church of the Nazarene - Bloomington, Indiana - ECPv6.15.20//NONSGML v1.0//EN
CALSCALE:GREGORIAN
METHOD:PUBLISH
X-ORIGINAL-URL:https://b1naz.org
X-WR-CALDESC:Events for Bloomington First Church of the Nazarene - Bloomington, Indiana
REFRESH-INTERVAL;VALUE=DURATION:PT1H
X-Robots-Tag:noindex
X-PUBLISHED-TTL:PT1H
BEGIN:VTIMEZONE
TZID:America/New_York
BEGIN:DAYLIGHT
TZOFFSETFROM:-0500
TZOFFSETTO:-0400
TZNAME:EDT
DTSTART:20240310T070000
END:DAYLIGHT
BEGIN:STANDARD
TZOFFSETFROM:-0400
TZOFFSETTO:-0500
TZNAME:EST
DTSTART:20241103T060000
END:STANDARD
BEGIN:DAYLIGHT
TZOFFSETFROM:-0500
TZOFFSETTO:-0400
TZNAME:EDT
DTSTART:20250309T070000
END:DAYLIGHT
BEGIN:STANDARD
TZOFFSETFROM:-0400
TZOFFSETTO:-0500
TZNAME:EST
DTSTART:20251102T060000
END:STANDARD
BEGIN:DAYLIGHT
TZOFFSETFROM:-0500
TZOFFSETTO:-0400
TZNAME:EDT
DTSTART:20260308T070000
END:DAYLIGHT
BEGIN:STANDARD
TZOFFSETFROM:-0400
TZOFFSETTO:-0500
TZNAME:EST
DTSTART:20261101T060000
END:STANDARD
END:VTIMEZONE
BEGIN:VEVENT
DTSTART;TZID=America/New_York:20250406T103000
DTEND;TZID=America/New_York:20250406T113000
DTSTAMP:20260424T072503
CREATED:20250327T155645Z
LAST-MODIFIED:20250327T155645Z
UID:7652-1743935400-1743939000@b1naz.org
SUMMARY:SUNDAY MORNING WORSHIP
DESCRIPTION:Our hope\, as a church\, is that people who join us for worship will feel loved by God and loved by God’s people. \nWe look forward to meeting you soon! \nCan’t join us in person? That’s Okay! We also LiveStream on our YouTube Channel \nBloomington First Church of the Nazarene Live Stream
URL:https://b1naz.org/event/sunday-morning-worship-93/
LOCATION:Sanctuary\, 700 W. Howe St\, Bloomington\, IN\, 47403\, United States
CATEGORIES:Worship Service
ATTACH;FMTTYPE=image/jpeg:https://b1naz.org/wp-content/uploads/2023/01/Church-Outside-WORSHIP-1920x1080-copy.jpg
ORGANIZER;CN="Office Admin":MAILTO:office.b1naz@gmail.com
END:VEVENT
BEGIN:VEVENT
DTSTART;TZID=America/New_York:20250413T103000
DTEND;TZID=America/New_York:20250413T113000
DTSTAMP:20260424T072503
CREATED:20250327T155939Z
LAST-MODIFIED:20250327T160852Z
UID:7658-1744540200-1744543800@b1naz.org
SUMMARY:PALM SUNDAY MORNING WORSHIP
DESCRIPTION:Join us for this special service as we follow Jesus’ triumphant entry into Jerusalem and the beginning of Holy Week.  \nOur hope\, as a church\, is that people who join us for worship will feel loved by God and loved by God’s people. \nWe look forward to meeting you soon! \nCan’t join us in person? That’s Okay! We also LiveStream on our YouTube Channel \nBloomington First Church of the Nazarene Live Stream
URL:https://b1naz.org/event/sunday-morning-worship-94/
LOCATION:Sanctuary\, 700 W. Howe St\, Bloomington\, IN\, 47403\, United States
CATEGORIES:Worship Service
ATTACH;FMTTYPE=image/jpeg:https://b1naz.org/wp-content/uploads/2025/03/Palm-Sunday-YT-Pic-1920x1080-1.jpg
ORGANIZER;CN="Office Admin":MAILTO:office.b1naz@gmail.com
END:VEVENT
BEGIN:VEVENT
DTSTART;TZID=America/New_York:20250420T103000
DTEND;TZID=America/New_York:20250420T113000
DTSTAMP:20260424T072503
CREATED:20250327T162257Z
LAST-MODIFIED:20250327T162257Z
UID:7670-1745145000-1745148600@b1naz.org
SUMMARY:EASTER SUNDAY MORNING WORSHIP
DESCRIPTION:We invite you to join us for this special service as we celebrate the hope and joy of Easter\, the Resurrection of Jesus!  \nOur hope\, as a church\, is that people who join us for worship will feel loved by God and loved by God’s people. \nWe look forward to meeting you soon! \nCan’t join us in person? That’s Okay! We also LiveStream on our YouTube Channel \nBloomington First Church of the Nazarene Live Stream
URL:https://b1naz.org/event/easter-sunday-morning-worship-2/
LOCATION:Sanctuary\, 700 W. Howe St\, Bloomington\, IN\, 47403\, United States
CATEGORIES:Worship Service
ATTACH;FMTTYPE=image/jpeg:https://b1naz.org/wp-content/uploads/2025/03/He-Is-Risen-1920x10800-copy.jpg
ORGANIZER;CN="Office Admin":MAILTO:office.b1naz@gmail.com
END:VEVENT
BEGIN:VEVENT
DTSTART;TZID=America/New_York:20250427T103000
DTEND;TZID=America/New_York:20250427T113000
DTSTAMP:20260424T072503
CREATED:20250327T162532Z
LAST-MODIFIED:20250327T162532Z
UID:7675-1745749800-1745753400@b1naz.org
SUMMARY:SUNDAY MORNING WORSHIP
DESCRIPTION:Our hope\, as a church\, is that people who join us for worship will feel loved by God and loved by God’s people. \nWe look forward to meeting you soon! \nCan’t join us in person? That’s Okay! We also LiveStream on our YouTube Channel \nBloomington First Church of the Nazarene Live Stream
URL:https://b1naz.org/event/sunday-morning-worship-95/
LOCATION:Sanctuary\, 700 W. Howe St\, Bloomington\, IN\, 47403\, United States
CATEGORIES:Worship Service
ATTACH;FMTTYPE=image/jpeg:https://b1naz.org/wp-content/uploads/2023/01/Church-Outside-WORSHIP-1920x1080-copy.jpg
ORGANIZER;CN="Office Admin":MAILTO:office.b1naz@gmail.com
END:VEVENT
END:VCALENDAR