BEGIN:VCALENDAR
VERSION:2.0
PRODID:-//Bloomington First Church of the Nazarene - Bloomington, Indiana - ECPv6.15.20//NONSGML v1.0//EN
CALSCALE:GREGORIAN
METHOD:PUBLISH
X-WR-CALNAME:Bloomington First Church of the Nazarene - Bloomington, Indiana
X-ORIGINAL-URL:https://b1naz.org
X-WR-CALDESC:Events for Bloomington First Church of the Nazarene - Bloomington, Indiana
REFRESH-INTERVAL;VALUE=DURATION:PT1H
X-Robots-Tag:noindex
X-PUBLISHED-TTL:PT1H
BEGIN:VTIMEZONE
TZID:America/New_York
BEGIN:DAYLIGHT
TZOFFSETFROM:-0500
TZOFFSETTO:-0400
TZNAME:EDT
DTSTART:20240310T070000
END:DAYLIGHT
BEGIN:STANDARD
TZOFFSETFROM:-0400
TZOFFSETTO:-0500
TZNAME:EST
DTSTART:20241103T060000
END:STANDARD
BEGIN:DAYLIGHT
TZOFFSETFROM:-0500
TZOFFSETTO:-0400
TZNAME:EDT
DTSTART:20250309T070000
END:DAYLIGHT
BEGIN:STANDARD
TZOFFSETFROM:-0400
TZOFFSETTO:-0500
TZNAME:EST
DTSTART:20251102T060000
END:STANDARD
BEGIN:DAYLIGHT
TZOFFSETFROM:-0500
TZOFFSETTO:-0400
TZNAME:EDT
DTSTART:20260308T070000
END:DAYLIGHT
BEGIN:STANDARD
TZOFFSETFROM:-0400
TZOFFSETTO:-0500
TZNAME:EST
DTSTART:20261101T060000
END:STANDARD
END:VTIMEZONE
BEGIN:VEVENT
DTSTART;TZID=America/New_York:20250105T103000
DTEND;TZID=America/New_York:20250105T113000
DTSTAMP:20260424T123657
CREATED:20241105T144552Z
LAST-MODIFIED:20241105T144552Z
UID:7136-1736073000-1736076600@b1naz.org
SUMMARY:SUNDAY MORNING WORSHIP
DESCRIPTION:Our hope\, as a church\, is that people who join us for worship will feel loved by God and loved by God’s people. \nWe look forward to meeting you soon! \nCan’t join us in person? That’s Okay! We also LiveStream on our YouTube Channel \nBloomington First Church of the Nazarene Live Stream
URL:https://b1naz.org/event/sunday-morning-worship-80/
LOCATION:Sanctuary\, 700 W. Howe St\, Bloomington\, IN\, 47403\, United States
CATEGORIES:Worship Service
ATTACH;FMTTYPE=image/jpeg:https://b1naz.org/wp-content/uploads/2023/01/Church-Outside-WORSHIP-1920x1080-copy.jpg
ORGANIZER;CN="Office Admin":MAILTO:office.b1naz@gmail.com
END:VEVENT
BEGIN:VEVENT
DTSTART;TZID=America/New_York:20250112T103000
DTEND;TZID=America/New_York:20250112T113000
DTSTAMP:20260424T123657
CREATED:20250108T052829Z
LAST-MODIFIED:20250108T052829Z
UID:7298-1736677800-1736681400@b1naz.org
SUMMARY:SUNDAY MORNING WORSHIP
DESCRIPTION:Our hope\, as a church\, is that people who join us for worship will feel loved by God and loved by God’s people. \nWe look forward to meeting you soon! \nCan’t join us in person? That’s Okay! We also LiveStream on our YouTube Channel \nBloomington First Church of the Nazarene Live Stream
URL:https://b1naz.org/event/sunday-morning-worship-81/
LOCATION:Sanctuary\, 700 W. Howe St\, Bloomington\, IN\, 47403\, United States
CATEGORIES:Worship Service
ATTACH;FMTTYPE=image/jpeg:https://b1naz.org/wp-content/uploads/2023/01/Church-Outside-WORSHIP-1920x1080-copy.jpg
ORGANIZER;CN="Office Admin":MAILTO:office.b1naz@gmail.com
END:VEVENT
BEGIN:VEVENT
DTSTART;TZID=America/New_York:20250119T103000
DTEND;TZID=America/New_York:20250119T113000
DTSTAMP:20260424T123657
CREATED:20250108T053107Z
LAST-MODIFIED:20250108T053107Z
UID:7307-1737282600-1737286200@b1naz.org
SUMMARY:SUNDAY MORNING WORSHIP
DESCRIPTION:Our hope\, as a church\, is that people who join us for worship will feel loved by God and loved by God’s people. \nWe look forward to meeting you soon! \nCan’t join us in person? That’s Okay! We also LiveStream on our YouTube Channel \nBloomington First Church of the Nazarene Live Stream
URL:https://b1naz.org/event/sunday-morning-worship-82/
LOCATION:Sanctuary\, 700 W. Howe St\, Bloomington\, IN\, 47403\, United States
CATEGORIES:Worship Service
ATTACH;FMTTYPE=image/jpeg:https://b1naz.org/wp-content/uploads/2023/01/Church-Outside-WORSHIP-1920x1080-copy.jpg
ORGANIZER;CN="Office Admin":MAILTO:office.b1naz@gmail.com
END:VEVENT
BEGIN:VEVENT
DTSTART;TZID=America/New_York:20250126T103000
DTEND;TZID=America/New_York:20250126T113000
DTSTAMP:20260424T123657
CREATED:20250108T053212Z
LAST-MODIFIED:20250108T053212Z
UID:7314-1737887400-1737891000@b1naz.org
SUMMARY:SUNDAY MORNING WORSHIP
DESCRIPTION:Our hope\, as a church\, is that people who join us for worship will feel loved by God and loved by God’s people. \nWe look forward to meeting you soon! \nCan’t join us in person? That’s Okay! We also LiveStream on our YouTube Channel \nBloomington First Church of the Nazarene Live Stream
URL:https://b1naz.org/event/sunday-morning-worship-83/
LOCATION:Sanctuary\, 700 W. Howe St\, Bloomington\, IN\, 47403\, United States
CATEGORIES:Worship Service
ATTACH;FMTTYPE=image/jpeg:https://b1naz.org/wp-content/uploads/2023/01/Church-Outside-WORSHIP-1920x1080-copy.jpg
ORGANIZER;CN="Office Admin":MAILTO:office.b1naz@gmail.com
END:VEVENT
END:VCALENDAR