BEGIN:VCALENDAR
VERSION:2.0
PRODID:-//Bloomington First Church of the Nazarene - Bloomington, Indiana - ECPv6.15.20//NONSGML v1.0//EN
CALSCALE:GREGORIAN
METHOD:PUBLISH
X-ORIGINAL-URL:https://b1naz.org
X-WR-CALDESC:Events for Bloomington First Church of the Nazarene - Bloomington, Indiana
REFRESH-INTERVAL;VALUE=DURATION:PT1H
X-Robots-Tag:noindex
X-PUBLISHED-TTL:PT1H
BEGIN:VTIMEZONE
TZID:America/New_York
BEGIN:DAYLIGHT
TZOFFSETFROM:-0500
TZOFFSETTO:-0400
TZNAME:EDT
DTSTART:20230312T070000
END:DAYLIGHT
BEGIN:STANDARD
TZOFFSETFROM:-0400
TZOFFSETTO:-0500
TZNAME:EST
DTSTART:20231105T060000
END:STANDARD
BEGIN:DAYLIGHT
TZOFFSETFROM:-0500
TZOFFSETTO:-0400
TZNAME:EDT
DTSTART:20240310T070000
END:DAYLIGHT
BEGIN:STANDARD
TZOFFSETFROM:-0400
TZOFFSETTO:-0500
TZNAME:EST
DTSTART:20241103T060000
END:STANDARD
BEGIN:DAYLIGHT
TZOFFSETFROM:-0500
TZOFFSETTO:-0400
TZNAME:EDT
DTSTART:20250309T070000
END:DAYLIGHT
BEGIN:STANDARD
TZOFFSETFROM:-0400
TZOFFSETTO:-0500
TZNAME:EST
DTSTART:20251102T060000
END:STANDARD
END:VTIMEZONE
BEGIN:VEVENT
DTSTART;TZID=America/New_York:20241201T103000
DTEND;TZID=America/New_York:20241201T113000
DTSTAMP:20260424T141910
CREATED:20241105T142220Z
LAST-MODIFIED:20241105T142220Z
UID:7088-1733049000-1733052600@b1naz.org
SUMMARY:SUNDAY MORNING WORSHIP
DESCRIPTION:Our hope\, as a church\, is that people who join us for worship will feel loved by God and loved by God’s people. \nWe look forward to meeting you soon! \nCan’t join us in person? That’s Okay! We also LiveStream on our YouTube Channel \nBloomington First Church of the Nazarene Live Stream
URL:https://b1naz.org/event/sunday-morning-worship-75/
LOCATION:Sanctuary\, 700 W. Howe St\, Bloomington\, IN\, 47403\, United States
CATEGORIES:Worship Service
ATTACH;FMTTYPE=image/jpeg:https://b1naz.org/wp-content/uploads/2023/01/Church-Outside-WORSHIP-1920x1080-copy.jpg
ORGANIZER;CN="Office Admin":MAILTO:office.b1naz@gmail.com
END:VEVENT
BEGIN:VEVENT
DTSTART;TZID=America/New_York:20241208T103000
DTEND;TZID=America/New_York:20241208T113000
DTSTAMP:20260424T141910
CREATED:20241105T143919Z
LAST-MODIFIED:20241105T143919Z
UID:7115-1733653800-1733657400@b1naz.org
SUMMARY:SUNDAY MORNING WORSHIP
DESCRIPTION:Our hope\, as a church\, is that people who join us for worship will feel loved by God and loved by God’s people. \nWe look forward to meeting you soon! \nCan’t join us in person? That’s Okay! We also LiveStream on our YouTube Channel \nBloomington First Church of the Nazarene Live Stream
URL:https://b1naz.org/event/sunday-morning-worship-76/
LOCATION:Sanctuary\, 700 W. Howe St\, Bloomington\, IN\, 47403\, United States
CATEGORIES:Worship Service
ATTACH;FMTTYPE=image/jpeg:https://b1naz.org/wp-content/uploads/2023/01/Church-Outside-WORSHIP-1920x1080-copy.jpg
ORGANIZER;CN="Office Admin":MAILTO:office.b1naz@gmail.com
END:VEVENT
BEGIN:VEVENT
DTSTART;TZID=America/New_York:20241215T103000
DTEND;TZID=America/New_York:20241215T113000
DTSTAMP:20260424T141910
CREATED:20241105T144013Z
LAST-MODIFIED:20241105T144013Z
UID:7116-1734258600-1734262200@b1naz.org
SUMMARY:SUNDAY MORNING WORSHIP
DESCRIPTION:Our hope\, as a church\, is that people who join us for worship will feel loved by God and loved by God’s people. \nWe look forward to meeting you soon! \nCan’t join us in person? That’s Okay! We also LiveStream on our YouTube Channel \nBloomington First Church of the Nazarene Live Stream
URL:https://b1naz.org/event/sunday-morning-worship-77/
LOCATION:Sanctuary\, 700 W. Howe St\, Bloomington\, IN\, 47403\, United States
CATEGORIES:Worship Service
ATTACH;FMTTYPE=image/jpeg:https://b1naz.org/wp-content/uploads/2023/01/Church-Outside-WORSHIP-1920x1080-copy.jpg
ORGANIZER;CN="Office Admin":MAILTO:office.b1naz@gmail.com
END:VEVENT
BEGIN:VEVENT
DTSTART;TZID=America/New_York:20241222T103000
DTEND;TZID=America/New_York:20241222T113000
DTSTAMP:20260424T141910
CREATED:20241105T144054Z
LAST-MODIFIED:20241105T144054Z
UID:7117-1734863400-1734867000@b1naz.org
SUMMARY:SUNDAY MORNING WORSHIP
DESCRIPTION:Our hope\, as a church\, is that people who join us for worship will feel loved by God and loved by God’s people. \nWe look forward to meeting you soon! \nCan’t join us in person? That’s Okay! We also LiveStream on our YouTube Channel \nBloomington First Church of the Nazarene Live Stream
URL:https://b1naz.org/event/sunday-morning-worship-78/
LOCATION:Sanctuary\, 700 W. Howe St\, Bloomington\, IN\, 47403\, United States
CATEGORIES:Worship Service
ATTACH;FMTTYPE=image/jpeg:https://b1naz.org/wp-content/uploads/2023/01/Church-Outside-WORSHIP-1920x1080-copy.jpg
ORGANIZER;CN="Office Admin":MAILTO:office.b1naz@gmail.com
END:VEVENT
BEGIN:VEVENT
DTSTART;TZID=America/New_York:20241229T103000
DTEND;TZID=America/New_York:20241229T113000
DTSTAMP:20260424T141910
CREATED:20241105T144125Z
LAST-MODIFIED:20241105T144125Z
UID:7118-1735468200-1735471800@b1naz.org
SUMMARY:SUNDAY MORNING WORSHIP
DESCRIPTION:Our hope\, as a church\, is that people who join us for worship will feel loved by God and loved by God’s people. \nWe look forward to meeting you soon! \nCan’t join us in person? That’s Okay! We also LiveStream on our YouTube Channel \nBloomington First Church of the Nazarene Live Stream
URL:https://b1naz.org/event/sunday-morning-worship-79/
LOCATION:Sanctuary\, 700 W. Howe St\, Bloomington\, IN\, 47403\, United States
CATEGORIES:Worship Service
ATTACH;FMTTYPE=image/jpeg:https://b1naz.org/wp-content/uploads/2023/01/Church-Outside-WORSHIP-1920x1080-copy.jpg
ORGANIZER;CN="Office Admin":MAILTO:office.b1naz@gmail.com
END:VEVENT
END:VCALENDAR