BEGIN:VCALENDAR
VERSION:2.0
PRODID:-//Bloomington First Church of the Nazarene - Bloomington, Indiana - ECPv6.15.20//NONSGML v1.0//EN
CALSCALE:GREGORIAN
METHOD:PUBLISH
X-ORIGINAL-URL:https://b1naz.org
X-WR-CALDESC:Events for Bloomington First Church of the Nazarene - Bloomington, Indiana
REFRESH-INTERVAL;VALUE=DURATION:PT1H
X-Robots-Tag:noindex
X-PUBLISHED-TTL:PT1H
BEGIN:VTIMEZONE
TZID:America/New_York
BEGIN:DAYLIGHT
TZOFFSETFROM:-0500
TZOFFSETTO:-0400
TZNAME:EDT
DTSTART:20240310T070000
END:DAYLIGHT
BEGIN:STANDARD
TZOFFSETFROM:-0400
TZOFFSETTO:-0500
TZNAME:EST
DTSTART:20241103T060000
END:STANDARD
BEGIN:DAYLIGHT
TZOFFSETFROM:-0500
TZOFFSETTO:-0400
TZNAME:EDT
DTSTART:20250309T070000
END:DAYLIGHT
BEGIN:STANDARD
TZOFFSETFROM:-0400
TZOFFSETTO:-0500
TZNAME:EST
DTSTART:20251102T060000
END:STANDARD
BEGIN:DAYLIGHT
TZOFFSETFROM:-0500
TZOFFSETTO:-0400
TZNAME:EDT
DTSTART:20260308T070000
END:DAYLIGHT
BEGIN:STANDARD
TZOFFSETFROM:-0400
TZOFFSETTO:-0500
TZNAME:EST
DTSTART:20261101T060000
END:STANDARD
END:VTIMEZONE
BEGIN:VEVENT
DTSTART;TZID=America/New_York:20251001T183000
DTEND;TZID=America/New_York:20251001T193000
DTSTAMP:20260424T043238
CREATED:20250901T171113Z
LAST-MODIFIED:20250901T171113Z
UID:8314-1759343400-1759347000@b1naz.org
SUMMARY:WEDNESDAY PM
DESCRIPTION:WEDNESDAY PM \nWe all need a boost in our walk with Jesus in the middle of the week – so why not head over to Wednesday PM at Bloomington First Church of the Nazarene. Each week you and your family can participate in groups designed to help you grow in your faith. \nWednesday PM Groups: \n\nChildren & Youth Ministry where Kids Grades K-12th learn and grow in Jesus.\nAdult Bible Study is all about getting to know God better. It also provides a place for connecting and building relationships while giving a helpful “refresh for halfway between Sundays.\n\nWe would love to have you join us! \nFor information about other events at Bloomington First Church of the Nazarene click here.
URL:https://b1naz.org/event/wednesday-pm-104/
LOCATION:Various Rooms\, 700 W. Howe St\, Bloomington\, IN\, 47403\, United States
CATEGORIES:Wednesday PM
ATTACH;FMTTYPE=image/jpeg:https://b1naz.org/wp-content/uploads/2023/02/WedPM.jpg
END:VEVENT
BEGIN:VEVENT
DTSTART;TZID=America/New_York:20251008T183000
DTEND;TZID=America/New_York:20251008T193000
DTSTAMP:20260424T043238
CREATED:20251003T192850Z
LAST-MODIFIED:20251003T192850Z
UID:8411-1759948200-1759951800@b1naz.org
SUMMARY:WEDNESDAY PM
DESCRIPTION:WEDNESDAY PM \nWe all need a boost in our walk with Jesus in the middle of the week – so why not head over to Wednesday PM at Bloomington First Church of the Nazarene. Each week you and your family can participate in groups designed to help you grow in your faith. \nWednesday PM Groups: \n\nChildren & Youth Ministry where Kids Grades K-12th learn and grow in Jesus.\nAdult Bible Study is all about getting to know God better. It also provides a place for connecting and building relationships while giving a helpful “refresh for halfway between Sundays.\n\nWe would love to have you join us! \nFor information about other events at Bloomington First Church of the Nazarene click here.
URL:https://b1naz.org/event/wednesday-pm-105/
LOCATION:Various Rooms\, 700 W. Howe St\, Bloomington\, IN\, 47403\, United States
CATEGORIES:Wednesday PM
ATTACH;FMTTYPE=image/jpeg:https://b1naz.org/wp-content/uploads/2023/02/WedPM.jpg
END:VEVENT
BEGIN:VEVENT
DTSTART;TZID=America/New_York:20251015T183000
DTEND;TZID=America/New_York:20251015T193000
DTSTAMP:20260424T043238
CREATED:20251006T174935Z
LAST-MODIFIED:20251006T174935Z
UID:8427-1760553000-1760556600@b1naz.org
SUMMARY:WEDNESDAY PM
DESCRIPTION:WEDNESDAY PM \nWe all need a boost in our walk with Jesus in the middle of the week – so why not head over to Wednesday PM at Bloomington First Church of the Nazarene. Each week you and your family can participate in groups designed to help you grow in your faith. \nWednesday PM Groups: \n\nChildren & Youth Ministry where Kids Grades K-12th learn and grow in Jesus.\nAdult Bible Study is all about getting to know God better. It also provides a place for connecting and building relationships while giving a helpful “refresh for halfway between Sundays.\n\nWe would love to have you join us! \nFor information about other events at Bloomington First Church of the Nazarene click here.
URL:https://b1naz.org/event/wednesday-pm-106/
LOCATION:Various Rooms\, 700 W. Howe St\, Bloomington\, IN\, 47403\, United States
CATEGORIES:Wednesday PM
ATTACH;FMTTYPE=image/jpeg:https://b1naz.org/wp-content/uploads/2023/02/WedPM.jpg
END:VEVENT
BEGIN:VEVENT
DTSTART;TZID=America/New_York:20251022T183000
DTEND;TZID=America/New_York:20251022T193000
DTSTAMP:20260424T043238
CREATED:20251006T183343Z
LAST-MODIFIED:20251006T183343Z
UID:8441-1761157800-1761161400@b1naz.org
SUMMARY:WEDNESDAY PM
DESCRIPTION:WEDNESDAY PM \nWe all need a boost in our walk with Jesus in the middle of the week – so why not head over to Wednesday PM at Bloomington First Church of the Nazarene. Each week you and your family can participate in groups designed to help you grow in your faith. \nWednesday PM Groups: \n\nChildren & Youth Ministry where Kids Grades K-12th learn and grow in Jesus.\nAdult Bible Study is all about getting to know God better. It also provides a place for connecting and building relationships while giving a helpful “refresh for halfway between Sundays.\n\nWe would love to have you join us! \nFor information about other events at Bloomington First Church of the Nazarene click here.
URL:https://b1naz.org/event/wednesday-pm-107/
LOCATION:Various Rooms\, 700 W. Howe St\, Bloomington\, IN\, 47403\, United States
CATEGORIES:Wednesday PM
ATTACH;FMTTYPE=image/jpeg:https://b1naz.org/wp-content/uploads/2023/02/WedPM.jpg
END:VEVENT
BEGIN:VEVENT
DTSTART;TZID=America/New_York:20251029T183000
DTEND;TZID=America/New_York:20251029T193000
DTSTAMP:20260424T043238
CREATED:20251006T183532Z
LAST-MODIFIED:20251006T183532Z
UID:8442-1761762600-1761766200@b1naz.org
SUMMARY:WEDNESDAY PM
DESCRIPTION:WEDNESDAY PM \nWe all need a boost in our walk with Jesus in the middle of the week – so why not head over to Wednesday PM at Bloomington First Church of the Nazarene. Each week you and your family can participate in groups designed to help you grow in your faith. \nWednesday PM Groups: \n\nChildren & Youth Ministry where Kids Grades K-12th learn and grow in Jesus.\nAdult Bible Study is all about getting to know God better. It also provides a place for connecting and building relationships while giving a helpful “refresh for halfway between Sundays.\n\nWe would love to have you join us! \nFor information about other events at Bloomington First Church of the Nazarene click here.
URL:https://b1naz.org/event/wednesday-pm-108/
LOCATION:Various Rooms\, 700 W. Howe St\, Bloomington\, IN\, 47403\, United States
CATEGORIES:Wednesday PM
ATTACH;FMTTYPE=image/jpeg:https://b1naz.org/wp-content/uploads/2023/02/WedPM.jpg
END:VEVENT
END:VCALENDAR